BEGIN:VCALENDAR
VERSION:2.0
PRODID:-//eventon.com NONSGML v1.0//EN
CALSCALE:GREGORIAN
METHOD:PUBLISH
BEGIN:VEVENT
UID:69e8d72adc5b3
DTSTAMP:20260422T141154Z
DTSTART:20240327T213000Z
DTEND:20240328T000000Z
LOCATION:The Art Gallery at Congdon Yards 400 W English Rd\,  Suite 151
SUMMARY:Beginner Wheel Clay Class
DESCRIPTION:This class is designed to introduce you to throwing on the whee
 l. You will learn the basic steps involved in making wheel-thrown vessels. 
 We will start with making basic cylinders then extend this knowledge to mak
 ing other wheel-thrown forms such as functional pots\,  plates\,  bowls\,  
 cups\,  and mugs.&nbsp;Space is limited!&nbsp;Each[..]\nhttps://tagart.org/
 calendar/beginner-wheel-clay-class-4/var/ri-1.l-L1
URL:https://tagart.org/calendar/beginner-wheel-clay-class-4/var/ri-1.l-L1
END:VEVENT
END:VCALENDAR