BEGIN:VCALENDAR
VERSION:2.0
PRODID:-//eventon.com NONSGML v1.0//EN
CALSCALE:GREGORIAN
METHOD:PUBLISH
BEGIN:VEVENT
UID:69e88f9e9e304
DTSTAMP:20260422T090638Z
DTSTART:20240226T190000Z
DTEND:20240226T210000Z
LOCATION:The Art Gallery at Congdon Yards 400 W English Rd\,  Suite 151
SUMMARY:Figure Drawing from a Model (clothed)
DESCRIPTION:This four-week class will deal with many aspects of figure draw
 ing. Proportion\,  line and contour and the structure of the human form wil
 l be part of our focus. Students will be working with the light and dark on
  the figure and the way it defines the shapes of the body.[..]\nhttps://tag
 art.org/calendar/figure-drawing-from-a-model-clothed-2/
URL:https://tagart.org/calendar/figure-drawing-from-a-model-clothed-2/
END:VEVENT
END:VCALENDAR