BEGIN:VCALENDAR
VERSION:2.0
PRODID:-//eventon.com NONSGML v1.0//EN
CALSCALE:GREGORIAN
METHOD:PUBLISH
BEGIN:VEVENT
UID:69e89225016ce
DTSTAMP:20260422T091725Z
DTSTART:20231228T180000Z
DTEND:20231228T200000Z
LOCATION:The Art Gallery at Congdon Yards 400 W English Rd\,  Suite 151
SUMMARY:Paint Party for Kids
DESCRIPTION:Discover the fun of creating with watercolors and acrylic paint
  at our TAG paint party.&nbsp;Students ages 5-13 are invited to spend 2 hou
 rs exploring techniques and tools used with these art mediums and then will
  choose one to make a work of art to take home.&nbsp; Two dates to choose[.
 .]\nhttps://tagart.org/calendar/paint-party-for-kids-2/
URL:https://tagart.org/calendar/paint-party-for-kids-2/
END:VEVENT
END:VCALENDAR