BEGIN:VCALENDAR
VERSION:2.0
PRODID:-//eventon.com NONSGML v1.0//EN
CALSCALE:GREGORIAN
METHOD:PUBLISH
BEGIN:VEVENT
UID:69e8c789d0a8d
DTSTAMP:20260422T130513Z
DTSTART:20240210T150000Z
DTEND:20240210T170000Z
LOCATION:The Art Gallery at Congdon Yards 400 W English Rd\,  Suite 151
SUMMARY:Make & Take Kids Workshop
DESCRIPTION:Make &amp; Take workshop for kids ages 5-12.&nbsp; Students wil
 l create 2D and 3D holiday crafts to take home.&nbsp; Class is limited to 1
 5 students.&nbsp; Instructor: Michaela Hafley Cost: $15 per child Register 
 Now\nhttps://tagart.org/calendar/make-take-kids-workshop/
URL:https://tagart.org/calendar/make-take-kids-workshop/
END:VEVENT
END:VCALENDAR