BEGIN:VCALENDAR
VERSION:2.0
PRODID:-//eventon.com NONSGML v1.0//EN
CALSCALE:GREGORIAN
METHOD:PUBLISH
BEGIN:VEVENT
UID:69e4d29c904ed
DTSTAMP:20260419T130324Z
DTSTART:20240430
DTEND:20240501
LOCATION:
SUMMARY:Clay Studio Closed to Prepare for Annual Gala
DESCRIPTION:\nhttps://tagart.org/calendar/clay-studio-closed-to-prepare-for
 -annual-gala/var/ri-1.l-L1
URL:https://tagart.org/calendar/clay-studio-closed-to-prepare-for-annual-gala/var/ri-1.l-L1
END:VEVENT
END:VCALENDAR