BEGIN:VCALENDAR
VERSION:2.0
PRODID:-//eventon.com NONSGML v1.0//EN
CALSCALE:GREGORIAN
METHOD:PUBLISH
BEGIN:VEVENT
UID:69e620753de7f
DTSTAMP:20260420T124749Z
DTSTART:20240524T160000Z
DTEND:20240524T210000Z
LOCATION:The Art Gallery at Congdon Yards 400 W English Rd\,  Suite 151
SUMMARY:Annual Middle School Art Show
DESCRIPTION:TAG’s Annual Middle School Show features the work of students
  from 17 area schools. A variety of 2D and 3D art will be on display. This 
 exhibit will be displayed until Friday\,  July 26.\nhttps://tagart.org/cale
 ndar/annual-middle-school-art-show/var/ri-1.l-L1
URL:https://tagart.org/calendar/annual-middle-school-art-show/var/ri-1.l-L1
END:VEVENT
END:VCALENDAR