BEGIN:VCALENDAR
VERSION:2.0
PRODID:-//eventon.com NONSGML v1.0//EN
CALSCALE:GREGORIAN
METHOD:PUBLISH
BEGIN:VEVENT
UID:69e6577e4da22
DTSTAMP:20260420T164238Z
DTSTART:20250109T223000Z
DTEND:20250110T010000Z
LOCATION:The Art Gallery at Congdon Yards 400 W English Rd\,  Suite 151
SUMMARY:Ceramic Creations 1
DESCRIPTION:Six-week session &#8211; Thursdays\,  January 9\,  16\,  23\,  
 30\,  Feb. 13\,  20 This class is designed for students of all levels of ce
 ramic experience.&nbsp; Participants will learn aspects of working with cla
 y both on the wheel and handbuilding.&nbsp; This class is an excellent expe
 rience for those curious about ceramics but[..]\nhttps://tagart.org/calenda
 r/ceramic-creations-1/
URL:https://tagart.org/calendar/ceramic-creations-1/
END:VEVENT
END:VCALENDAR