BEGIN:VCALENDAR
VERSION:2.0
PRODID:-//eventon.com NONSGML v1.0//EN
CALSCALE:GREGORIAN
METHOD:PUBLISH
BEGIN:VEVENT
UID:69e4d6a18c050
DTSTAMP:20260419T132033Z
DTSTART:20250605T193000Z
DTEND:20250605T213000Z
LOCATION:The Art Gallery at Congdon Yards 400 W English Rd\,  Suite 151
SUMMARY:Crafting with Kids FATHER’S DAY
DESCRIPTION:This drop-in class is being held on June 5.&nbsp; Registration 
 is open until June 5. Bring your child to create Father’s Day crafts anyt
 ime between 3:30 and 5:30 on June 5.&nbsp;All materials will be included.&n
 bsp;No experience or instruction needed!&nbsp;Simple activities will be ava
 ilable for you and your child to create[..]\nhttps://tagart.org/calendar/cr
 afting-with-kids-fathers-day-2/
URL:https://tagart.org/calendar/crafting-with-kids-fathers-day-2/
END:VEVENT
END:VCALENDAR