BEGIN:VCALENDAR
VERSION:2.0
PRODID:-//eventon.com NONSGML v1.0//EN
CALSCALE:GREGORIAN
METHOD:PUBLISH
BEGIN:VEVENT
UID:69e5eecabf31c
DTSTAMP:20260420T091554Z
DTSTART:20250614T140000Z
DTEND:20250614T160000Z
LOCATION:The Art Gallery at Congdon Yards 400 W English Rd\,  Suite 151
SUMMARY:MAKE YOUR MARK sublimation printing
DESCRIPTION:These workshops are made possible through a Grassroots Grant wi
 th the Arts Council of Greater Greensboro. This one-day workshop is open to
  ALL AGES.  Participants will hear from artist and business owner Emile Ki
 mbeni about sublimation printing.  Guided instruction will be provided for
  students to create their sketch\,  which they[..]\nhttps://tagart.org/cale
 ndar/make-your-mark-sublimation-printing-6-14/
URL:https://tagart.org/calendar/make-your-mark-sublimation-printing-6-14/
END:VEVENT
END:VCALENDAR