BEGIN:VCALENDAR
VERSION:2.0
PRODID:-//eventon.com NONSGML v1.0//EN
CALSCALE:GREGORIAN
METHOD:PUBLISH
BEGIN:VEVENT
UID:69e60807ac418
DTSTAMP:20260420T110335Z
DTSTART:20260124T150000Z
DTEND:20260124T170000Z
LOCATION:The Art Gallery at Congdon Yards 400 W English Rd\,  Suite 151
SUMMARY:Intro to Watercolor - 1.24.26
DESCRIPTION:Have you wanted to try watercolor painting? Artist Liz McKinnon
  will lead you through color mixing and paint techniques in this 2-hour wor
 kshop. All materials will be provided. Registration is open for teens to ad
 ults. If you like the intro class\,  four-week sessions are also available.
  Cost: TAG Member &#8211;[..]\nhttps://tagart.org/calendar/intro-to-waterco
 lor-1-24-26/
URL:https://tagart.org/calendar/intro-to-watercolor-1-24-26/
END:VEVENT
END:VCALENDAR