BEGIN:VCALENDAR
VERSION:2.0
PRODID:-//eventon.com NONSGML v1.0//EN
CALSCALE:GREGORIAN
METHOD:PUBLISH
BEGIN:VEVENT
UID:69e5eeb8696ad
DTSTAMP:20260420T091536Z
DTSTART:20260329T190000Z
DTEND:20260329T210000Z
LOCATION:The Art Gallery at Congdon Yards 400 W English Rd\,  Suite 151
SUMMARY:Butter Bell Pottery Workshop - 3.29.26
DESCRIPTION:Come into the Pottery Studio and create your own Butter Bell! I
 n this one-time class\,  you will learn how to work with clay and make a Bu
 tter Bell. Once completed\,  your piece will be fired and glazed to the col
 or of your choice. All materials are provided. This is a[..]\nhttps://tagar
 t.org/calendar/butter-bell-pottery-workshop-3-29-26/
URL:https://tagart.org/calendar/butter-bell-pottery-workshop-3-29-26/
END:VEVENT
END:VCALENDAR