BEGIN:VCALENDAR
VERSION:2.0
PRODID:-//eventon.com NONSGML v1.0//EN
CALSCALE:GREGORIAN
METHOD:PUBLISH
BEGIN:VEVENT
UID:69e89294ececc
DTSTAMP:20260422T091916Z
DTSTART:20260420T213000Z
DTEND:20260421T000000Z
LOCATION:The Art Gallery at Congdon Yards 400 W English Rd\,  Suite 151
SUMMARY:Pottery Wheel - 3.9.26
DESCRIPTION:This class is designed to advance each participant’s wheel-th
 rowing skills. All levels of wheel experience\,  from none to advanced\,  a
 re encouraged to participate. Beginners will learn the basic steps involved
  in making wheel-thrown vessels. All students will be shown a variety of te
 chniques to advance their wheel knowledge. Space is[..]\nhttps://tagart.org
 /calendar/pottery-wheel-3-9-26/var/ri-5.l-L1
URL:https://tagart.org/calendar/pottery-wheel-3-9-26/var/ri-5.l-L1
END:VEVENT
END:VCALENDAR