BEGIN:VCALENDAR
VERSION:2.0
PRODID:-//eventon.com NONSGML v1.0//EN
CALSCALE:GREGORIAN
METHOD:PUBLISH
BEGIN:VEVENT
UID:69e4cbcdc2c95
DTSTAMP:20260419T123421Z
DTSTART:20260615T130000Z
DTEND:20260615T160000Z
LOCATION:The Art Gallery at Congdon Yards 400 W English Rd\,  Suite 151
SUMMARY:Summer Camp - Adopt a Pet - 6.15.26
DESCRIPTION:This camp is for ages 5-10. This camp is the perfect creative a
 dventure for young artists! Unleash your imagination as you build your very
  own oversized 3D stuffed paper animal. Campers will use a variety of paper
  crafting techniques to bring their chosen animal to life in a fun and[..]\
 nhttps://tagart.org/calendar/summer-camp-adopt-a-pet-6-15-26/
URL:https://tagart.org/calendar/summer-camp-adopt-a-pet-6-15-26/
END:VEVENT
END:VCALENDAR