BEGIN:VCALENDAR
VERSION:2.0
PRODID:-//eventon.com NONSGML v1.0//EN
CALSCALE:GREGORIAN
METHOD:PUBLISH
BEGIN:VEVENT
UID:69e8a36ae232b
DTSTAMP:20260422T103106Z
DTSTART:20260713T130000Z
DTEND:20260713T160000Z
LOCATION:The Art Gallery at Congdon Yards 400 W English Rd\,  Suite 151
SUMMARY:Summer Camp - Enchanted Adventures - 7.13.26
DESCRIPTION:This camp is for ages 5-10. Step into a world of magic and wond
 er with this camp designed for imaginative young minds. This enchanting cla
 ss invites campers to unlock endless possibilities as they embark on a crea
 tive journey to craft their own magical castles\,  gallant jousting knights
 \,  and regal crowns.[..]\nhttps://tagart.org/calendar/summer-camp-everythi
 ng-clay-7-6-26/
URL:https://tagart.org/calendar/summer-camp-everything-clay-7-6-26/
END:VEVENT
END:VCALENDAR