BEGIN:VCALENDAR
VERSION:2.0
PRODID:-//eventon.com NONSGML v1.0//EN
CALSCALE:GREGORIAN
METHOD:PUBLISH
BEGIN:VEVENT
UID:69e63b4eee73f
DTSTAMP:20260420T144222Z
DTSTART:20260723T130000Z
DTEND:20260723T160000Z
LOCATION:The Art Gallery at Congdon Yards 400 W English Rd\,  Suite 151
SUMMARY:Summer Camp - Upcycled Art - 7.20.26
DESCRIPTION:This camp is for ages 8-11. Using a variety of collected treasu
 res\,  recycled items\,  and lots of imagination\,  students will transform
  unconventional materials into stunning art pieces! This hands-on experienc
 e encourages creative problem-solving and shows young artists that anything
  can become art with the right perspective! On the last day[..]\nhttps://ta
 gart.org/calendar/summer-camp-upcycled-art-7-20-26/var/ri-3.l-L1
URL:https://tagart.org/calendar/summer-camp-upcycled-art-7-20-26/var/ri-3.l-L1
END:VEVENT
END:VCALENDAR