BEGIN:VCALENDAR
VERSION:2.0
PRODID:-//eventon.com NONSGML v1.0//EN
CALSCALE:GREGORIAN
METHOD:PUBLISH
BEGIN:VEVENT
UID:69e637cb30d78
DTSTAMP:20260420T142723Z
DTSTART:20260718T140000Z
DTEND:20260718T170000Z
LOCATION:The Art Gallery at Congdon Yards 400 W English Rd\,  Suite 151
SUMMARY:Oil Painting with Gayle - 7.18.26
DESCRIPTION:Join us for another oil painting class with Gayle Lambeth. You 
 will be able to paint along with Gayle and create your very own oil paintin
 g. This 3-hour class will be a “Follow the Leader”- style class and is 
 perfect for all levels\,  even beginners. Gayle will explain and demonstrat
 e[..]\nhttps://tagart.org/calendar/oil-painting-with-gayle-7-18-26/
URL:https://tagart.org/calendar/oil-painting-with-gayle-7-18-26/
END:VEVENT
END:VCALENDAR