BEGIN:VCALENDAR
VERSION:2.0
PRODID:-//eventon.com NONSGML v1.0//EN
CALSCALE:GREGORIAN
METHOD:PUBLISH
BEGIN:VEVENT
UID:69e637fb24acf
DTSTAMP:20260420T142811Z
DTSTART:20260627T140000Z
DTEND:20260627T160000Z
LOCATION:The Art Gallery at Congdon Yards 400 W English Rd\,  Suite 151
SUMMARY:Ceramic Wine Trays - 6.27.26
DESCRIPTION:Join us at TAG in the pottery studio with artist Liz McKinnon o
 f Heart Shine Studios on Saturday\,  May 27th.&nbsp; Liz will guide you thr
 ough the process of making your own ceramic wine tray.&nbsp; A variety of s
 hapes will be available and glazing options will be discussed. This fun lit
 tle[..]\nhttps://tagart.org/calendar/ceramic-wine-trays-6-27-26/
URL:https://tagart.org/calendar/ceramic-wine-trays-6-27-26/
END:VEVENT
END:VCALENDAR