BEGIN:VCALENDAR
VERSION:2.0
PRODID:-//eventon.com NONSGML v1.0//EN
CALSCALE:GREGORIAN
METHOD:PUBLISH
BEGIN:VEVENT
UID:69e7742ec2673
DTSTAMP:20260421T125718Z
DTSTART:20230921T210000Z
DTEND:20230922T000000Z
LOCATION:The Art Gallery at Congdon Yards 400 W English Rd\,  Suite 151
SUMMARY:Oil Painting - Workshop I - CLASS IS FULL
DESCRIPTION:Learn about oil painting in this 3-hour “follow the leader”
  workshop. Participants will have a completed 9&#215;12” painting of a ma
 rsh landscape ready to hang by the end of the session. The class is limited
  to 6 students. Instructor: Gayle Lambeth Cost: $65 TAG Members and $80 for
  non-members Registration[..]\nhttps://tagart.org/calendar/oil-painting-fol
 low1/
URL:https://tagart.org/calendar/oil-painting-follow1/
END:VEVENT
END:VCALENDAR