BEGIN:VCALENDAR
VERSION:2.0
PRODID:-//eventon.com NONSGML v1.0//EN
CALSCALE:GREGORIAN
METHOD:PUBLISH
BEGIN:VEVENT
UID:69e9f7a0d77cd
DTSTAMP:20260423T104240Z
DTSTART:20231104T130000Z
DTEND:20231104T150000Z
LOCATION:The Art Gallery at Congdon Yards 400 W English Rd\,  Suite 151
SUMMARY:GreensboroArtsHub.com Workshops
DESCRIPTION:Calling all artists! Here&#8217;s a great opportunity to showca
 se your talents! We&#8217;re hosting two free hands-on workshops to make it
  easy to create your artist profile on GreensboroArtsHub.com. Bring your la
 ptop or tablet and we&#8217;ll guide you step-by-step through building a co
 mpelling GreensboroArtsHub profile. We&#8217;ll photograph you and your art
 work[..]\nhttps://tagart.org/calendar/greensboroartshub-com-workshops/
URL:https://tagart.org/calendar/greensboroartshub-com-workshops/
END:VEVENT
END:VCALENDAR